BEGIN:VCALENDAR
VERSION:2.0
PRODID:-//P-pop Wave - ECPv6.1.1//NONSGML v1.0//EN
CALSCALE:GREGORIAN
METHOD:PUBLISH
X-WR-CALNAME:P-pop Wave
X-ORIGINAL-URL:https://ppopwave.com
X-WR-CALDESC:Events for P-pop Wave
REFRESH-INTERVAL;VALUE=DURATION:PT1H
X-Robots-Tag:noindex
X-PUBLISHED-TTL:PT1H
BEGIN:VTIMEZONE
TZID:Asia/Shanghai
BEGIN:STANDARD
TZOFFSETFROM:+0800
TZOFFSETTO:+0800
TZNAME:CST
DTSTART:20230101T000000
END:STANDARD
END:VTIMEZONE
BEGIN:VEVENT
DTSTART;VALUE=DATE:20231010
DTEND;VALUE=DATE:20231011
DTSTAMP:20260424T115300
CREATED:20230901T234708Z
LAST-MODIFIED:20230901T234750Z
UID:2332-1696896000-1696982399@ppopwave.com
SUMMARY:RUTH (MNL48) Birthday
DESCRIPTION:
URL:https://ppopwave.com/calendar/ruth-mnl48-birthday/
CATEGORIES:Birthday
END:VEVENT
BEGIN:VEVENT
DTSTART;VALUE=DATE:20231010
DTEND;VALUE=DATE:20231011
DTSTAMP:20260424T115300
CREATED:20230901T234900Z
LAST-MODIFIED:20230901T234900Z
UID:2334-1696896000-1696982399@ppopwave.com
SUMMARY:JAYDEE (MNL48) Birthday
DESCRIPTION:
URL:https://ppopwave.com/calendar/jaydee-mnl48-birthday/
CATEGORIES:Birthday
END:VEVENT
BEGIN:VEVENT
DTSTART;VALUE=DATE:20231014
DTEND;VALUE=DATE:20231015
DTSTAMP:20260424T115300
CREATED:20230901T235230Z
LAST-MODIFIED:20230901T235230Z
UID:2338-1697241600-1697327999@ppopwave.com
SUMMARY:MARI (MNL48) Birthday
DESCRIPTION:
URL:https://ppopwave.com/calendar/mari-mnl48-birthday/
CATEGORIES:Birthday
END:VEVENT
BEGIN:VEVENT
DTSTART;VALUE=DATE:20231015
DTEND;VALUE=DATE:20231016
DTSTAMP:20260424T115300
CREATED:20230901T235529Z
LAST-MODIFIED:20230901T235529Z
UID:2340-1697328000-1697414399@ppopwave.com
SUMMARY:MIHO (MNL48) Birthday
DESCRIPTION:
URL:https://ppopwave.com/calendar/miho-mnl48-birthday/
CATEGORIES:Birthday
END:VEVENT
BEGIN:VEVENT
DTSTART;VALUE=DATE:20231016
DTEND;VALUE=DATE:20231017
DTSTAMP:20260424T115300
CREATED:20230901T235648Z
LAST-MODIFIED:20230901T235648Z
UID:2342-1697414400-1697500799@ppopwave.com
SUMMARY:JIE (MNL48) Birthday
DESCRIPTION:
URL:https://ppopwave.com/calendar/jie-mnl48-birthday/
CATEGORIES:Birthday
END:VEVENT
BEGIN:VEVENT
DTSTART;VALUE=DATE:20231030
DTEND;VALUE=DATE:20231031
DTSTAMP:20260424T115300
CREATED:20230902T000928Z
LAST-MODIFIED:20230902T000928Z
UID:2359-1698624000-1698710399@ppopwave.com
SUMMARY:ELLA (MNL48) Birthday
DESCRIPTION:
URL:https://ppopwave.com/calendar/ella-mnl48-birthday/
END:VEVENT
END:VCALENDAR