BEGIN:VCALENDAR
VERSION:2.0
PRODID:-//P-pop Wave - ECPv6.1.1//NONSGML v1.0//EN
CALSCALE:GREGORIAN
METHOD:PUBLISH
X-WR-CALNAME:P-pop Wave
X-ORIGINAL-URL:https://ppopwave.com
X-WR-CALDESC:Events for P-pop Wave
REFRESH-INTERVAL;VALUE=DURATION:PT1H
X-Robots-Tag:noindex
X-PUBLISHED-TTL:PT1H
BEGIN:VTIMEZONE
TZID:Asia/Shanghai
BEGIN:STANDARD
TZOFFSETFROM:+0800
TZOFFSETTO:+0800
TZNAME:CST
DTSTART:20230101T000000
END:STANDARD
END:VTIMEZONE
BEGIN:VEVENT
DTSTART;TZID=Asia/Shanghai:20231008T160000
DTEND;TZID=Asia/Shanghai:20231008T180000
DTSTAMP:20260426T073436
CREATED:20230914T143813Z
LAST-MODIFIED:20230914T143813Z
UID:2569-1696780800-1696788000@ppopwave.com
SUMMARY:YES MY LOVE 'Yayakapin Mall Show' at Robinsons Malabon
DESCRIPTION:
URL:https://ppopwave.com/calendar/yes-my-love-yayakapin-mall-show-at-robinsons-malabon/
LOCATION:Robinsons Malabon
END:VEVENT
BEGIN:VEVENT
DTSTART;VALUE=DATE:20231019
DTEND;VALUE=DATE:20231020
DTSTAMP:20260426T073436
CREATED:20230901T235853Z
LAST-MODIFIED:20230901T235853Z
UID:2345-1697673600-1697759999@ppopwave.com
SUMMARY:NIKO (YES MY LOVE) Birthday
DESCRIPTION:
URL:https://ppopwave.com/calendar/niko-yes-my-love-birthday/
CATEGORIES:Birthday
END:VEVENT
END:VCALENDAR