BEGIN:VCALENDAR
VERSION:2.0
PRODID:-//P-pop Wave - ECPv6.1.1//NONSGML v1.0//EN
CALSCALE:GREGORIAN
METHOD:PUBLISH
X-WR-CALNAME:P-pop Wave
X-ORIGINAL-URL:https://ppopwave.com
X-WR-CALDESC:Events for P-pop Wave
REFRESH-INTERVAL;VALUE=DURATION:PT1H
X-Robots-Tag:noindex
X-PUBLISHED-TTL:PT1H
BEGIN:VTIMEZONE
TZID:Asia/Shanghai
BEGIN:STANDARD
TZOFFSETFROM:+0800
TZOFFSETTO:+0800
TZNAME:CST
DTSTART:20230101T000000
END:STANDARD
END:VTIMEZONE
BEGIN:VEVENT
DTSTART;TZID=Asia/Shanghai:20230924T160000
DTEND;TZID=Asia/Shanghai:20230924T180000
DTSTAMP:20260426T103226
CREATED:20230914T143449Z
LAST-MODIFIED:20230914T143620Z
UID:2560-1695571200-1695578400@ppopwave.com
SUMMARY:YES MY LOVE 'Yayakapin Mall Show' at Robinsons Las Pinas
DESCRIPTION:
URL:https://ppopwave.com/calendar/yes-my-love-at-robinsons-las-pinas/
LOCATION:Robinsons Las Pinas
END:VEVENT
END:VCALENDAR